BEGIN:VCALENDAR
VERSION:2.0
PRODID:-//ChamberMaster//Event Calendar 2.0//EN
METHOD:PUBLISH
X-PUBLISHED-TTL:P3D
REFRESH-INTERVAL:P3D
CALSCALE:GREGORIAN
BEGIN:VEVENT
DTSTART:20240803T220000Z
DTEND:20240804T010000Z
X-MICROSOFT-CDO-ALLDAYEVENT:FALSE
SUMMARY:2024 Back 2 School Bash
DESCRIPTION:This is the 15th Annual Heart of Oklahoma Back 2 School Bash! It will be in downtown Purcell (2nd and Main) by McClain Bank\, on Saturday\, August 3rd\, from 5-8 pm.
X-ALT-DESC;FMTTYPE=text/html:<span style="caret-color: rgb(5\, 5\, 5)\; color: rgb(5\, 5\, 5)\; font-family: system-ui\, -apple-system\, BlinkMacSystemFont\, &quot\;.SFNSText-Regular&quot\;\, sans-serif\; font-size: 15px\;">This is the 15th Annual Heart of Oklahoma Back 2 School Bash! It will be in downtown Purcell (2nd and Main) by McClain Bank\, on Saturday\, August 3rd\, from 5-8 pm.</span>
LOCATION:
UID:e.2137.3641
SEQUENCE:3
DTSTAMP:20260424T192436Z
URL:http://members.theheartofok.com/events/details/2024-back-2-school-bash-3641
END:VEVENT

END:VCALENDAR
