BEGIN:VCALENDAR
VERSION:2.0
PRODID:-//ChamberMaster//Event Calendar 2.0//EN
METHOD:PUBLISH
X-PUBLISHED-TTL:P3D
REFRESH-INTERVAL:P3D
CALSCALE:GREGORIAN
BEGIN:VEVENT
DTSTART:20240928T160000Z
DTEND:20240929T020000Z
X-MICROSOFT-CDO-ALLDAYEVENT:FALSE
SUMMARY:2024 Heart of Oklahoma Music Festival
DESCRIPTION:Music Lovers! Mark your calendars! The 2024 Heart of Oklahoma Music Festival will be held on Historic Main Street in downtown Purcell on September 28th\, 2024 starting at 11:00am and will feature local Oklahoma musical artists RedGrass String Band\, The Bottom of the Barrel\, Gary Gibson Band\, Etowah Road\, and hometown celebrity Parker Millsap! FREE ADMISSION!!! Click Here to learn more.
X-ALT-DESC;FMTTYPE=text/html:<span style="font-size: 16px\; caret-color: rgb(94\, 94\, 94)\; color: rgb(94\, 94\, 94)\; font-family: &quot\;Open Sans&quot\;\, arial\, sans-serif\; text-align: center\;">Music Lovers! Mark your calendars! The 2024 Heart of Oklahoma Music Festival will be held on Historic Main Street in downtown Purcell on September 28th\, 2024 starting at 11:00am and will feature local Oklahoma musical artists&nbsp\;</span><a class="x-el x-el-a c1-2a c1-2b c1-a6 c1-1i c1-1j c1-2c c1-13 c1-86 c1-b c1-6c c1-2f c1-6d c1-a7" href="https://www.facebook.com/redgrassband?__tn__=-]K*F" rel="noopener" style="font-size: 16px\; box-sizing: inherit\; color: rgb(133\, 115\, 105)\; font-family: &quot\;Open Sans&quot\;\, arial\, sans-serif\; cursor: pointer\; word-wrap: break-word\; overflow-wrap: break-word\; display: inline\; text-align: center\;" target="_blank"><strong class="x-el x-el-span c1-2a c1-2b c1-b c1-2e c1-65 c1-5c c1-a3" style="box-sizing: inherit\; letter-spacing: inherit\; text-transform: inherit\; line-height: inherit\; font-size: inherit !important\;">RedGrass String Band</strong></a><span style="font-size: 16px\; caret-color: rgb(94\, 94\, 94)\; color: rgb(94\, 94\, 94)\; font-family: &quot\;Open Sans&quot\;\, arial\, sans-serif\; text-align: center\;">\,&nbsp\;</span><a class="x-el x-el-a c1-2a c1-2b c1-a6 c1-1i c1-1j c1-2c c1-13 c1-86 c1-b c1-6c c1-2f c1-6d c1-a7" href="https://www.facebook.com/TBOTBBand?__tn__=-]K*F" rel="noopener" style="font-size: 16px\; box-sizing: inherit\; color: rgb(133\, 115\, 105)\; font-family: &quot\;Open Sans&quot\;\, arial\, sans-serif\; cursor: pointer\; word-wrap: break-word\; overflow-wrap: break-word\; display: inline\; text-align: center\;" target="_blank"><strong class="x-el x-el-span c1-2a c1-2b c1-b c1-2e c1-65 c1-5c c1-a3" style="box-sizing: inherit\; letter-spacing: inherit\; text-transform: inherit\; line-height: inherit\; font-size: inherit !important\;">The Bottom of the Barrel</strong></a><span style="font-size: 16px\; caret-color: rgb(94\, 94\, 94)\; color: rgb(94\, 94\, 94)\; font-family: &quot\;Open Sans&quot\;\, arial\, sans-serif\; text-align: center\;">\,&nbsp\;</span><a class="x-el x-el-a c1-2a c1-2b c1-a6 c1-1i c1-1j c1-2c c1-13 c1-86 c1-b c1-6c c1-2f c1-6d c1-a7" href="https://www.facebook.com/profile.php?id=100063516326229&amp\;__tn__=-]K*F" rel="noopener" style="font-size: 16px\; box-sizing: inherit\; color: rgb(133\, 115\, 105)\; font-family: &quot\;Open Sans&quot\;\, arial\, sans-serif\; cursor: pointer\; word-wrap: break-word\; overflow-wrap: break-word\; display: inline\; text-align: center\;" target="_blank"><strong class="x-el x-el-span c1-2a c1-2b c1-b c1-2e c1-65 c1-5c c1-a3" style="box-sizing: inherit\; letter-spacing: inherit\; text-transform: inherit\; line-height: inherit\; font-size: inherit !important\;">Gary Gibson Band</strong></a><span style="font-size: 16px\; caret-color: rgb(94\, 94\, 94)\; color: rgb(94\, 94\, 94)\; font-family: &quot\;Open Sans&quot\;\, arial\, sans-serif\; text-align: center\;">\,&nbsp\;</span><a class="x-el x-el-a c1-2a c1-2b c1-a6 c1-1i c1-1j c1-2c c1-13 c1-86 c1-b c1-6c c1-2f c1-6d c1-a7" href="https://www.facebook.com/etowahroad?__tn__=-]K*F" rel="noopener" style="font-size: 16px\; box-sizing: inherit\; color: rgb(133\, 115\, 105)\; font-family: &quot\;Open Sans&quot\;\, arial\, sans-serif\; cursor: pointer\; word-wrap: break-word\; overflow-wrap: break-word\; display: inline\; text-align: center\;" target="_blank"><strong class="x-el x-el-span c1-2a c1-2b c1-b c1-2e c1-65 c1-5c c1-a3" style="box-sizing: inherit\; letter-spacing: inherit\; text-transform: inherit\; line-height: inherit\; font-size: inherit !important\;">Etowah Road</strong></a><span style="font-size: 16px\; caret-color: rgb(94\, 94\, 94)\; color: rgb(94\, 94\, 94)\; font-family: &quot\;Open Sans&quot\;\, arial\, sans-serif\; text-align: center\;">\, and hometown celebrity&nbsp\;</span><a class="x-el x-el-a c1-2a c1-2b c1-a6 c1-1i c1-1j c1-2c c1-13 c1-86 c1-b c1-6c c1-2f c1-6d c1-a7" href="https://www.facebook.com/parkermillsapmusic?__tn__=-]K*F" rel="noopener" style="font-size: 16px\; box-sizing: inherit\; color: rgb(133\, 115\, 105)\; font-family: &quot\;Open Sans&quot\;\, arial\, sans-serif\; cursor: pointer\; word-wrap: break-word\; overflow-wrap: break-word\; display: inline\; text-align: center\;" target="_blank"><strong class="x-el x-el-span c1-2a c1-2b c1-b c1-2e c1-65 c1-5c c1-a3" style="box-sizing: inherit\; letter-spacing: inherit\; text-transform: inherit\; line-height: inherit\; font-size: inherit !important\;">Parker Millsap</strong></a><span style="font-size: 16px\; caret-color: rgb(94\, 94\, 94)\; color: rgb(94\, 94\, 94)\; font-family: &quot\;Open Sans&quot\;\, arial\, sans-serif\; text-align: center\;">! FREE ADMISSION!!!&nbsp\;</span><span style="font-size:16px\;"><a href="https://theheartofok.com/2024-music-festival">Click Here</a> to learn more.</span>
LOCATION:
UID:e.2137.3845
SEQUENCE:3
DTSTAMP:20260424T184730Z
URL:http://members.theheartofok.com/events/details/2024-heart-of-oklahoma-music-festival-3845
END:VEVENT

END:VCALENDAR
