BEGIN:VCALENDAR
VERSION:2.0
PRODID:-//ChamberMaster//Event Calendar 2.0//EN
METHOD:PUBLISH
X-PUBLISHED-TTL:P3D
REFRESH-INTERVAL:P3D
CALSCALE:GREGORIAN
BEGIN:VEVENT
DTSTART:20260521T160000Z
DTEND:20260521T170000Z
X-MICROSOFT-CDO-ALLDAYEVENT:FALSE
SUMMARY:Board of Directors Meeting
DESCRIPTION:Heart of Oklahoma Chamber Board of Directors Meeting
X-ALT-DESC;FMTTYPE=text/html:Heart of Oklahoma Chamber Board of Directors Meeting
LOCATION:Chamber Office 305 W. Main Street Purcell\, OK 73080
UID:e.2137.639
SEQUENCE:3
DTSTAMP:20260423T211404Z
URL:http://members.theheartofok.com/events/details/board-of-directors-meeting-05-21-2026-639
END:VEVENT

END:VCALENDAR
