BEGIN:VCALENDAR
VERSION:2.0
PRODID:-//ChamberMaster//Event Calendar 2.0//EN
METHOD:PUBLISH
X-PUBLISHED-TTL:P3D
REFRESH-INTERVAL:P3D
CALSCALE:GREGORIAN
BEGIN:VEVENT
DTSTART:20260409T170000Z
DTEND:20260409T180000Z
X-MICROSOFT-CDO-ALLDAYEVENT:FALSE
SUMMARY:Chamber Member Leadership Luncheon
DESCRIPTION:Let's gather\, connect\, and move forward together.\n\n \n\nOur Chamber Member Leadership Luncheon is a chance to sit down with fellow members\, hear updates from Chamber leadership\, and learn how you can plug in more intentionally this year. Sponsored by the Chickasaw Nation. \n\n \n\nWe hope you'll join us for lunch and conversation as we continue building momentum in the Heart of Oklahoma.\n\n \n\nFirst Baptist Church - MPR | 400 W. Main St. Purcell\, OK 73080\n\nLunch starts at 12:00 PM | Program at 12:15 PM\n\n$10 per member\n\nRSVP by Friday\, March 20 to\n\nelisabeth@theheartofok.com | (405) 527-3093
X-ALT-DESC;FMTTYPE=text/html:<p style="font-size: 16px\; white-space: pre-wrap\; margin: 0px\; padding: 0px\; caret-color: rgb(64\, 63\, 66)\; color: rgb(64\, 63\, 66)\; font-family: Calibri\, Helvetica\, Arial\, sans-serif\;"><span style="color: rgb(44\, 51\, 37)\;">Let&rsquo\;s gather\, connect\, and move forward together.</span></p>\n\n<p style="font-size: 16px\; white-space: pre-wrap\; margin: 0px\; padding: 0px\; caret-color: rgb(64\, 63\, 66)\; color: rgb(64\, 63\, 66)\; font-family: Calibri\, Helvetica\, Arial\, sans-serif\;"><span style="color: rgb(44\, 51\, 37)\;">&#65279\;</span></p>\n\n<p style="font-size: 16px\; white-space: pre-wrap\; margin: 0px\; padding: 0px\; caret-color: rgb(64\, 63\, 66)\; color: rgb(64\, 63\, 66)\; font-family: Calibri\, Helvetica\, Arial\, sans-serif\;"><span style="color: rgb(44\, 51\, 37)\;">Our </span><span style="color: rgb(44\, 51\, 37)\; font-weight: bold\;">Chamber Member Leadership Luncheon</span><span style="color: rgb(44\, 51\, 37)\;"> is a chance to sit down with fellow members\, hear updates from Chamber leadership\, and learn how you can plug in more intentionally this year. Sponsored by the Chickasaw Nation. </span></p>\n\n<p style="font-size: 16px\; white-space: pre-wrap\; margin: 0px\; padding: 0px\; caret-color: rgb(64\, 63\, 66)\; color: rgb(64\, 63\, 66)\; font-family: Calibri\, Helvetica\, Arial\, sans-serif\;">&nbsp\;</p>\n\n<p style="font-size: 16px\; white-space: pre-wrap\; margin: 0px\; padding: 0px\; caret-color: rgb(64\, 63\, 66)\; color: rgb(64\, 63\, 66)\; font-family: Calibri\, Helvetica\, Arial\, sans-serif\;"><span style="color: rgb(44\, 51\, 37)\;">We hope you&rsquo\;ll join us for lunch and conversation as we continue building momentum in the Heart of Oklahoma.</span></p>\n\n<p style="font-size: 16px\; white-space: pre-wrap\; margin: 0px\; padding: 0px\; caret-color: rgb(64\, 63\, 66)\; color: rgb(64\, 63\, 66)\; font-family: Calibri\, Helvetica\, Arial\, sans-serif\;">&nbsp\;</p>\n\n<p style="font-size: 16px\; white-space: pre-wrap\; margin: 0px\; padding: 0px\; caret-color: rgb(64\, 63\, 66)\; color: rgb(64\, 63\, 66)\; font-family: Calibri\, Helvetica\, Arial\, sans-serif\;"><span style="color: rgb(44\, 51\, 37)\;">First Baptist Church - MPR&nbsp\;|&nbsp\;400 W. Main St. Purcell\, OK 73080</span></p>\n\n<p style="font-size: 16px\; white-space: pre-wrap\; margin: 0px\; padding: 0px\; caret-color: rgb(64\, 63\, 66)\; color: rgb(64\, 63\, 66)\; font-family: Calibri\, Helvetica\, Arial\, sans-serif\;"><span style="color: rgb(44\, 51\, 37)\;">Lunch starts at 12:00 PM&nbsp\;|&nbsp\;Program at 12:15 PM</span></p>\n\n<p style="font-size: 16px\; white-space: pre-wrap\; margin: 0px\; padding: 0px\; caret-color: rgb(64\, 63\, 66)\; color: rgb(64\, 63\, 66)\; font-family: Calibri\, Helvetica\, Arial\, sans-serif\;"><span style="color: rgb(44\, 51\, 37)\;">$10 per member</span></p>\n\n<p style="font-size: 16px\; white-space: pre-wrap\; margin: 0px\; padding: 0px\; caret-color: rgb(64\, 63\, 66)\; color: rgb(64\, 63\, 66)\; font-family: Calibri\, Helvetica\, Arial\, sans-serif\;"><span style="color: rgb(44\, 51\, 37)\;">RSVP by Friday\, March 20 to</span></p>\n\n<p style="font-size: 16px\; white-space: pre-wrap\; margin: 0px\; padding: 0px\; caret-color: rgb(64\, 63\, 66)\; color: rgb(64\, 63\, 66)\; font-family: Calibri\, Helvetica\, Arial\, sans-serif\;"><a data-link-type="email" href="mailto:elisabeth@theheartofok.com" rel="noopener noreferrer" style="color: rgb(44\, 51\, 37)\;" target="_blank">elisabeth@theheartofok.com</a> | <a data-link-type="phone" href="tel:405-527-3093" rel="noopener noreferrer" style="color: rgb(44\, 51\, 37)\;" target="_blank">(405) 527-3093</a></p>\n
LOCATION:First Baptist Church _ MPR
UID:e.2137.4784
SEQUENCE:3
DTSTAMP:20260423T190533Z
URL:http://members.theheartofok.com/events/details/chamber-member-leadership-luncheon-4784
END:VEVENT

END:VCALENDAR
