BEGIN:VCALENDAR
VERSION:2.0
PRODID:-//ChamberMaster//Event Calendar 2.0//EN
METHOD:PUBLISH
X-PUBLISHED-TTL:P3D
REFRESH-INTERVAL:P3D
CALSCALE:GREGORIAN
BEGIN:VEVENT
DTSTART:20260516T120000Z
DTEND:20260516T120000Z
X-MICROSOFT-CDO-ALLDAYEVENT:FALSE
SUMMARY:Chickasaw Nation Rabbit Run 5K & Fun Run – Purcell Lake
DESCRIPTION:Join us for the Chickasaw Nation Rabbit Run 5K & 1-Mile Fun Run (Chokfi Maliil) at Purcell Lake in Purcell\, Oklahoma a free\, family-friendly event open to the public. Hosted by the Chickasaw Nation Department of Public Health\, this annual event promotes health\, wellness\, and community engagement for all ages and fitness levels.\n\n  Date: Saturday\, May 16\, 2026\n\n  Location: Purcell Lake (Pavilion off Chandler Park Rd)\n\n  Event Schedule:\n\n  Packet Pickup & On-Site Registration   7:15 AM\n\n  1-Mile Fun Run/Walk   8:00 AM\n\n  5K Run/Walk   8:30 AM\n\nWhether you're running\, walking\, or cheering others on\, this event offers a fun way to stay active and connect with the community. Strollers are welcome\, and participants can enjoy giveaways\, activities\, and awards.\n\n  Registration:\n\nRegister online at ItsYourRace.com through May 14. On-site registration will also be available the morning of the event.\n\n  More Information:\n\nchickasawrun@chickasaw.net\n\nDon't miss this exciting community event at Purcell Lake in the Heart of Oklahoma!
X-ALT-DESC;FMTTYPE=text/html:<p data-end="540" data-start="211" style="caret-color: rgb(255\, 255\, 255)\; color: rgb(255\, 255\, 255)\;"><span style="color:#000000\;">Join us for the Chickasaw Nation Rabbit Run 5K &amp\; 1-Mile Fun Run (Chokfi Maliil) at Purcell Lake in Purcell\, Oklahoma&mdash\;a free\, family-friendly event open to the public. Hosted by the Chickasaw Nation Department of Public Health\, this annual event promotes health\, wellness\, and community engagement for all ages and fitness levels.</span></p>\n\n<p data-end="643" data-start="542" style="caret-color: rgb(255\, 255\, 255)\; color: rgb(255\, 255\, 255)\;"><span style="color:#000000\;">&#128197\;&nbsp\;<strong data-end="554" data-start="545">Date:</strong>&nbsp\;Saturday\, May 16\, 2026<br data-end="580" data-start="577" />\n&#128205\;&nbsp\;<strong data-end="596" data-start="583">Location:</strong>&nbsp\;Purcell Lake (Pavilion off Chandler Park Rd)</span></p>\n\n<p data-end="779" data-start="645" style="caret-color: rgb(255\, 255\, 255)\; color: rgb(255\, 255\, 255)\;"><span style="color:#000000\;">&#9200\;&nbsp\;<strong data-end="666" data-start="647">Event Schedule:</strong><br data-end="669" data-start="666" />\n&bull\; Packet Pickup &amp\; On-Site Registration &ndash\; 7:15 AM<br data-end="720" data-start="717" />\n&bull\; 1-Mile Fun Run/Walk &ndash\; 8:00 AM<br data-end="754" data-start="751" />\n&bull\; 5K Run/Walk &ndash\; 8:30 AM</span></p>\n\n<p data-end="996" data-start="781" style="caret-color: rgb(255\, 255\, 255)\; color: rgb(255\, 255\, 255)\;"><span style="color:#000000\;">Whether you&rsquo\;re running\, walking\, or cheering others on\, this event offers a fun way to stay active and connect with the community. Strollers are welcome\, and participants can enjoy giveaways\, activities\, and awards.</span></p>\n\n<p data-end="1147" data-start="998" style="caret-color: rgb(255\, 255\, 255)\; color: rgb(255\, 255\, 255)\;"><span style="color:#000000\;">&#128221\;&nbsp\;<strong data-end="1018" data-start="1001">Registration:</strong><br data-end="1021" data-start="1018" />\nRegister online at&nbsp\;<strong data-end="1059" data-start="1040">ItsYourRace.com</strong>&nbsp\;through May 14. On-site registration will also be available the morning of the event.</span></p>\n\n<p data-end="1204" data-start="1149" style="caret-color: rgb(255\, 255\, 255)\; color: rgb(255\, 255\, 255)\;"><span style="color:#000000\;">&#128231\;&nbsp\;<strong data-end="1173" data-start="1152">More Information:</strong></span><br data-end="1176" data-start="1173" />\n<a class="decorated-link cursor-pointer" data-end="1202" data-start="1176" rel="noopener">chickasawrun@chickasaw.net<span aria-hidden="true" class="ms-0.5 inline-block align-middle leading-none"><svg aria-hidden="true" class="block h-[0.75em] w-[0.75em] stroke-current stroke-[0.75]" data-rtl-flip="" height="20" width="20" xmlns="http://www.w3.org/2000/svg"><use fill="currentColor" href="/cdn/assets/sprites-core-0da2cb3c.svg#304883"></use></svg></span></a></p>\n\n<p data-end="1288" data-start="1206" style="caret-color: rgb(255\, 255\, 255)\; color: rgb(255\, 255\, 255)\;">Don&rsquo\;t miss this exciting community event at Purcell Lake in the Heart of Oklahoma!</p>\n
LOCATION:Purcell Lake\, pavilion off Chandler Park Rd\, across from the Purcell Multi-Purpose Building in Purcell\, Oklahoma.
UID:e.2137.4792
SEQUENCE:3
DTSTAMP:20260423T180013Z
URL:http://members.theheartofok.com/events/details/chickasaw-nation-rabbit-run-5k-fun-run-purcell-lake-4792
END:VEVENT

END:VCALENDAR
