BEGIN:VCALENDAR
VERSION:2.0
PRODID:-//ChamberMaster//Event Calendar 2.0//EN
METHOD:PUBLISH
X-PUBLISHED-TTL:P3D
REFRESH-INTERVAL:P3D
CALSCALE:GREGORIAN
BEGIN:VEVENT
DTSTART:20260501T143000Z
DTEND:20260501T163000Z
X-MICROSOFT-CDO-ALLDAYEVENT:FALSE
SUMMARY:FBC Purcell's Clothes Closet
DESCRIPTION:FBC Purcell's Clothes Closet
X-ALT-DESC;FMTTYPE=text/html:FBC Purcell&#39\;s Clothes Closet
LOCATION:
UID:e.2137.4028
SEQUENCE:3
DTSTAMP:20260423T211234Z
URL:http://members.theheartofok.com/events/details/fbc-purcell-s-clothes-closet-05-01-2026-4028
END:VEVENT

END:VCALENDAR
