BEGIN:VCALENDAR
VERSION:2.0
PRODID:-//ChamberMaster//Event Calendar 2.0//EN
METHOD:PUBLISH
X-PUBLISHED-TTL:P3D
REFRESH-INTERVAL:P3D
CALSCALE:GREGORIAN
BEGIN:VEVENT
DTSTART:20251028T143000Z
DTEND:20251028T163000Z
X-MICROSOFT-CDO-ALLDAYEVENT:FALSE
SUMMARY:FBC Purcell's Clothes Closet
DESCRIPTION:FBC Purcell's Clothes Closet
X-ALT-DESC;FMTTYPE=text/html:FBC Purcell&#39\;s Clothes Closet
LOCATION:
UID:e.2137.3975
SEQUENCE:3
DTSTAMP:20260424T041107Z
URL:http://members.theheartofok.com/events/details/fbc-purcell-s-clothes-closet-10-28-2025-3975
END:VEVENT

END:VCALENDAR
