BEGIN:VCALENDAR
VERSION:2.0
PRODID:-//ChamberMaster//Event Calendar 2.0//EN
METHOD:PUBLISH
X-PUBLISHED-TTL:P3D
REFRESH-INTERVAL:P3D
CALSCALE:GREGORIAN
BEGIN:VEVENT
DTSTART:20240909T230000Z
DTEND:20240909T230000Z
X-MICROSOFT-CDO-ALLDAYEVENT:FALSE
SUMMARY:Heart of Oklahoma Kiwanis Club Meeting
DESCRIPTION:Come join us and learn about Kiwanis!
X-ALT-DESC;FMTTYPE=text/html:Come join us and learn about Kiwanis!
LOCATION:Van's Pig Stands 2234 N Green Avenue Purcell\, OK 73080
UID:e.2137.3859
SEQUENCE:3
DTSTAMP:20260424T183306Z
URL:http://members.theheartofok.com/events/details/heart-of-oklahoma-kiwanis-club-meeting-09-09-2024-3859
END:VEVENT

END:VCALENDAR
