BEGIN:VCALENDAR
VERSION:2.0
PRODID:-//ChamberMaster//Event Calendar 2.0//EN
METHOD:PUBLISH
X-PUBLISHED-TTL:P3D
REFRESH-INTERVAL:P3D
CALSCALE:GREGORIAN
BEGIN:VEVENT
DTSTART:20260606T150000Z
DTEND:20260606T190000Z
X-MICROSOFT-CDO-ALLDAYEVENT:FALSE
SUMMARY:Lake Day: Trails\, Trucks & Community – Purcell Lake
DESCRIPTION:Join us for the 6th Annual Heart of Oklahoma Lake Day: Trails\, Trucks & Community at Purcell Lake! This free\, family-friendly event is packed with activities for all ages and celebrates 70 years of Purcell Lake.\n\n  Date: Saturday\, June 6\, 2026\n\n  Time: 10:00 AM   2:00 PM\n\n  Location: Purcell Lake\n\nSpend the day enjoying everything our lake has to offer from outdoor recreation to hands-on activities and community fun. This event brings together local organizations\, businesses\, and families for a day full of connection and celebration.\n\n  Event Highlights Include:\n\n  Touch-a-Truck experience\n\n  Science show\n\n  Inflatables for kids\n\n  Free hotdogs\n\n  Fishing and lake activities\n\n  Kayak rentals\n\n  Mountain bike trail access\n\n  Booths and community vendors\n\n  Walking and exploring lake trails\n\nWhether you're exploring the trails\, letting the kids play\, or just enjoying the lake\, there's something for everyone at Lake Day!\n\nInterested in hosting an activity\, informational booth\, or bringing a truck? Contact the Chamber or Purcell Parks to get involved.
X-ALT-DESC;FMTTYPE=text/html:<p data-end="452" data-start="233" style="caret-color: rgb(255\, 255\, 255)\; color: rgb(255\, 255\, 255)\;"><span style="color:#000000\;">Join us for the 6th Annual Heart of Oklahoma&nbsp\;<strong data-end="318" data-start="278">Lake Day: Trails\, Trucks &amp\; Community</strong>&nbsp\;at Purcell Lake! This free\, family-friendly event is packed with activities for all ages and celebrates&nbsp\;<strong data-end="451" data-start="423">70 years of Purcell Lake</strong>.</span></p>\n\n<p data-end="556" data-start="454" style="caret-color: rgb(255\, 255\, 255)\; color: rgb(255\, 255\, 255)\;"><span style="color:#000000\;">&#128197\;&nbsp\;<strong data-end="466" data-start="457">Date:</strong>&nbsp\;Saturday\, June 6\, 2026<br data-end="492" data-start="489" />\n&#9200\;&nbsp\;<strong data-end="503" data-start="494">Time:</strong>&nbsp\;10:00 AM &ndash\; 2:00 PM<br data-end="525" data-start="522" />\n&#128205\;&nbsp\;<strong data-end="541" data-start="528">Location:</strong>&nbsp\;Purcell Lake</span></p>\n\n<p data-end="798" data-start="558" style="caret-color: rgb(255\, 255\, 255)\; color: rgb(255\, 255\, 255)\;"><span style="color:#000000\;">Spend the day enjoying everything our lake has to offer&mdash\;from outdoor recreation to hands-on activities and community fun. This event brings together local organizations\, businesses\, and families for a day full of connection and celebration.</span></p>\n\n<p data-end="1074" data-start="800" style="caret-color: rgb(255\, 255\, 255)\; color: rgb(255\, 255\, 255)\;"><span style="color:#000000\;">&#127881\;&nbsp\;<strong data-end="832" data-start="803">Event Highlights Include:</strong><br data-end="835" data-start="832" />\n&bull\; Touch-a-Truck experience<br data-end="864" data-start="861" />\n&bull\; Science show<br data-end="881" data-start="878" />\n&bull\; Inflatables for kids<br data-end="906" data-start="903" />\n&bull\; Free hotdogs<br data-end="923" data-start="920" />\n&bull\; Fishing and lake activities<br data-end="955" data-start="952" />\n&bull\; Kayak rentals<br data-end="973" data-start="970" />\n&bull\; Mountain bike trail access<br data-end="1004" data-start="1001" />\n&bull\; Booths and community vendors<br data-end="1037" data-start="1034" />\n&bull\; Walking and exploring lake trails</span></p>\n\n<p data-end="1206" data-start="1076" style="caret-color: rgb(255\, 255\, 255)\; color: rgb(255\, 255\, 255)\;"><span style="color:#000000\;">Whether you&rsquo\;re exploring the trails\, letting the kids play\, or just enjoying the lake\, there&rsquo\;s something for everyone at Lake Day!</span></p>\n\n<p data-end="1376" data-start="1208" style="caret-color: rgb(255\, 255\, 255)\; color: rgb(255\, 255\, 255)\;"><span style="color:#000000\;">Interested in hosting an activity\, informational booth\, or bringing a truck? Contact the Chamber or Purcell Parks to get involved.&nbsp\;</span></p>\n
LOCATION:Purcell Lake in Purcell\, Oklahoma. Activities will take place around the Rotary Pavilion\, Chandler Pavilion\, lake trails\, and surrounding park areas.
UID:e.2137.4795
SEQUENCE:3
DTSTAMP:20260423T193549Z
URL:http://members.theheartofok.com/events/details/lake-day-trails-trucks-community-purcell-lake-4795
END:VEVENT

END:VCALENDAR
