BEGIN:VCALENDAR
VERSION:2.0
PRODID:-//ChamberMaster//Event Calendar 2.0//EN
METHOD:PUBLISH
X-PUBLISHED-TTL:P3D
REFRESH-INTERVAL:P3D
CALSCALE:GREGORIAN
BEGIN:VEVENT
DTSTART:20240920T230000Z
DTEND:20240921T020000Z
X-MICROSOFT-CDO-ALLDAYEVENT:FALSE
SUMMARY:Main Street Purcell's 3rd Friday Art Walk
DESCRIPTION:Excited for Main Street Purcell's 3rd Friday Art Walk. If you're interested in being a vendor you will need to contact a business on Main Street to see if they agree to you setting up on the sidewalk in front of their business. Once a business agrees\, let us know which business you be set up in front. There will be a $10 fee to set up. Thank you!
X-ALT-DESC;FMTTYPE=text/html:<font color="#050505" face="system-ui\, -apple-system\, BlinkMacSystemFont\, .SFNSText-Regular\, sans-serif"><span style="caret-color: rgb(5\, 5\, 5)\; font-size: 15px\; white-space: pre-wrap\;">Excited for Main Street Purcell&#39\;s 3rd Friday Art Walk. If you&#39\;re interested in being a vendor you will need to contact a business on Main Street to see if they agree to you setting up on the sidewalk in front of their business. Once a business agrees\, let us know which business you be set up in front. There will be a $10 fee to set up. Thank you!</span></font>
LOCATION:
UID:e.2137.3638
SEQUENCE:3
DTSTAMP:20260424T181040Z
URL:http://members.theheartofok.com/events/details/main-street-purcell-s-3rd-friday-art-walk-09-20-2024-3638
END:VEVENT

END:VCALENDAR
