BEGIN:VCALENDAR
VERSION:2.0
PRODID:-//ChamberMaster//Event Calendar 2.0//EN
METHOD:PUBLISH
X-PUBLISHED-TTL:P3D
REFRESH-INTERVAL:P3D
CALSCALE:GREGORIAN
BEGIN:VEVENT
DTSTART:20241105T000000Z
DTEND:20241105T000000Z
X-MICROSOFT-CDO-ALLDAYEVENT:FALSE
SUMMARY:Purcell City Council Meeting
DESCRIPTION:
X-ALT-DESC;FMTTYPE=text/html:
LOCATION:Purcell Police Department 1515 N Green Avenue Purcell\, OK 73080
UID:e.2137.3374
SEQUENCE:3
DTSTAMP:20260424T162440Z
URL:http://members.theheartofok.com/events/details/purcell-city-council-meeting-11-04-2024-3374
END:VEVENT

END:VCALENDAR
