BEGIN:VCALENDAR
VERSION:2.0
PRODID:-//ChamberMaster//Event Calendar 2.0//EN
METHOD:PUBLISH
X-PUBLISHED-TTL:P3D
REFRESH-INTERVAL:P3D
CALSCALE:GREGORIAN
BEGIN:VEVENT
DTSTART:20240814T170000Z
DTEND:20240814T180000Z
X-MICROSOFT-CDO-ALLDAYEVENT:FALSE
SUMMARY:Purcell Rotary Club
DESCRIPTION:Purcell Rotary Club meets every Wednesday at Noon. For inquires about joining please the club president contact Elisabeth Baker at (405) 527-3093.
X-ALT-DESC;FMTTYPE=text/html:Purcell Rotary Club meets every Wednesday at Noon. For inquires about joining please the club president contact Elisabeth Baker at (405) 527-3093.
LOCATION:Trinity United Methodist Church 221 N. 2nd Street Purcell\, OK 73080
UID:e.2137.1496
SEQUENCE:3
DTSTAMP:20260424T193625Z
URL:http://members.theheartofok.com/events/details/purcell-rotary-club-08-14-2024-1496
END:VEVENT

END:VCALENDAR
