BEGIN:VCALENDAR
VERSION:2.0
PRODID:-//ChamberMaster//Event Calendar 2.0//EN
METHOD:PUBLISH
X-PUBLISHED-TTL:P3D
REFRESH-INTERVAL:P3D
CALSCALE:GREGORIAN
BEGIN:VEVENT
DTSTART:20241106T180000Z
DTEND:20241106T190000Z
X-MICROSOFT-CDO-ALLDAYEVENT:FALSE
SUMMARY:Purcell Rotary Club
DESCRIPTION:Purcell Rotary Club meets every Wednesday at Noon. For inquires about joining please the club president contact Elisabeth Baker at (405) 527-3093.
X-ALT-DESC;FMTTYPE=text/html:Purcell Rotary Club meets every Wednesday at Noon. For inquires about joining please the club president contact Elisabeth Baker at (405) 527-3093.
LOCATION:Trinity United Methodist Church 221 N. 2nd Street Purcell\, OK 73080
UID:e.2137.1508
SEQUENCE:3
DTSTAMP:20260424T162155Z
URL:http://members.theheartofok.com/events/details/purcell-rotary-club-11-06-2024-1508
END:VEVENT

END:VCALENDAR
