BEGIN:VCALENDAR
VERSION:2.0
PRODID:-//ChamberMaster//Event Calendar 2.0//EN
METHOD:PUBLISH
X-PUBLISHED-TTL:P3D
REFRESH-INTERVAL:P3D
CALSCALE:GREGORIAN
BEGIN:VEVENT
DTSTART;VALUE=DATE:20250502
DTEND;VALUE=DATE:20250504
TRANSP:TRANSPARENT
X-MICROSOFT-CDO-ALLDAYEVENT:TRUE
SUMMARY:Purcell's Annual City Wide Garage Sale 2025
DESCRIPTION:It's getting to be that time of the year again for Purcell's Annual City Wide Garage Sale\, which will be held this year on May 2nd and 3rd\, 2025.\n\nIf you would like your garage sale to be placed on our list/virtual map\, please contact the Heart of Oklahoma Chamber of Commerce by texting/calling: (405) 527-3093 or email: chamberoffice@theheartofok.com no later than Tuesday\, April 29th.\n\nPlease provide Name\, Address of Sale\, Dates of Sale and a Contact Phone Number.\n\nWe will compile the list/virtual map and have it posted on our website and social media by Thursday\, May 1\, 2025.
X-ALT-DESC;FMTTYPE=text/html:<div class="kvgmc6g5 cxmmr5t8 oygrvhab hcukyx3x c1et5uql" style="overflow-wrap: break-word\; margin: 0px\; font-family: &quot\;Segoe UI Historic&quot\;\, &quot\;Segoe UI&quot\;\, Helvetica\, Arial\, sans-serif\; color: rgb(5\, 5\, 5)\; font-size: 15px\;">\n<div class="xdj266r x11i5rnm xat24cr x1mh8g0r x1vvkbs" style="margin: 0px\; overflow-wrap: break-word\; font-family: system-ui\, -apple-system\, BlinkMacSystemFont\, &quot\;.SFNSText-Regular&quot\;\, sans-serif\; caret-color: rgb(5\, 5\, 5)\; color: rgb(5\, 5\, 5)\; font-size: 15px\;">It&#39\;s getting to be that time of the year again for Purcell&#39\;s Annual City Wide Garage Sale\, which will be held this year on May 2nd&nbsp\;and 3rd\, 2025.</div>\n\n<div class="x11i5rnm xat24cr x1mh8g0r x1vvkbs xtlvy1s" style="margin: 0.5em 0px 0px\; overflow-wrap: break-word\; font-family: system-ui\, -apple-system\, BlinkMacSystemFont\, &quot\;.SFNSText-Regular&quot\;\, sans-serif\; caret-color: rgb(5\, 5\, 5)\; color: rgb(5\, 5\, 5)\; font-size: 15px\;">If you would like your garage sale to be placed on our list/virtual map\, please contact the Heart of Oklahoma Chamber of Commerce by texting/calling: (405) 527-3093 or email: chamberoffice@theheartofok.com no later than Tuesday\, April 29th.</div>\n\n<div class="x11i5rnm xat24cr x1mh8g0r x1vvkbs xtlvy1s" style="margin: 0.5em 0px 0px\; overflow-wrap: break-word\; font-family: system-ui\, -apple-system\, BlinkMacSystemFont\, &quot\;.SFNSText-Regular&quot\;\, sans-serif\; caret-color: rgb(5\, 5\, 5)\; color: rgb(5\, 5\, 5)\; font-size: 15px\;">Please provide Name\, Address of Sale\, Dates of Sale and a Contact Phone Number.</div>\n\n<div class="x11i5rnm xat24cr x1mh8g0r x1vvkbs xtlvy1s" style="margin: 0.5em 0px 0px\; overflow-wrap: break-word\; font-family: system-ui\, -apple-system\, BlinkMacSystemFont\, &quot\;.SFNSText-Regular&quot\;\, sans-serif\; caret-color: rgb(5\, 5\, 5)\; color: rgb(5\, 5\, 5)\; font-size: 15px\;">We will compile the list/virtual map and have it posted on our website and social media by Thursday\, May 1\, 2025.&nbsp\;</div>\n</div>\n
LOCATION:Purcell Area
UID:e.2137.3898
SEQUENCE:3
DTSTAMP:20260424T090212Z
URL:http://members.theheartofok.com/events/details/purcell-s-annual-city-wide-garage-sale-2025-3898
END:VEVENT

END:VCALENDAR
