BEGIN:VCALENDAR
VERSION:2.0
PRODID:-//ChamberMaster//Event Calendar 2.0//EN
METHOD:PUBLISH
X-PUBLISHED-TTL:P3D
REFRESH-INTERVAL:P3D
CALSCALE:GREGORIAN
BEGIN:VEVENT
DTSTART:20260316T183000Z
DTEND:20260316T183000Z
X-MICROSOFT-CDO-ALLDAYEVENT:FALSE
SUMMARY:Ribbon Cutting for Hometown Clinic
DESCRIPTION:Ribbon Cutting Celebration  \n\nJoin us in welcoming Hometown Clinic to Purcell!\n\n  Open House: 1:00   4:00 PM\n\n   Official Ribbon Cutting: 1:30 PM\n\nCome tour the new clinic\, meet the team\, and help us\n\ncelebrate this exciting addition to our community!
X-ALT-DESC;FMTTYPE=text/html:<p class="cvGsUA direction-ltr align-center para-style-body" style="color: rgb(228\, 16\, 37)\; caret-color: rgb(228\, 16\, 37)\; font-family: YACgETiWKS8_0\, _fb_\, auto\; letter-spacing: 0.024em\; line-height: 32px\;"><span style="color:#000000\;"><span class="a_GcMg font-feature-liga-off font-feature-clig-off font-feature-calt-off text-decoration-none text-strikethrough-none" style="--Ys-XuQ: none\; font-kerning: none\;">&#127881\; Ribbon Cutting Celebration &#127881\;</span></span></p>\n\n<p class="cvGsUA direction-ltr align-center para-style-body" style="color: rgb(228\, 16\, 37)\; caret-color: rgb(228\, 16\, 37)\; font-family: YACgETiWKS8_0\, _fb_\, auto\; letter-spacing: 0.024em\; line-height: 32px\;"><span style="color:#000000\;"><span class="a_GcMg font-feature-liga-off font-feature-clig-off font-feature-calt-off text-decoration-none text-strikethrough-none" style="--Ys-XuQ: none\; font-kerning: none\;">Join us in welcoming Hometown Clinic to Purcell!</span></span></p>\n\n<p class="cvGsUA direction-ltr align-center para-style-body" style="color: rgb(228\, 16\, 37)\; caret-color: rgb(228\, 16\, 37)\; font-family: YACgETiWKS8_0\, _fb_\, auto\; letter-spacing: 0.024em\; line-height: 32px\;"><span style="color:#000000\;"><span class="a_GcMg font-feature-liga-off font-feature-clig-off font-feature-calt-off text-decoration-none text-strikethrough-none" style="--Ys-XuQ: none\; font-kerning: none\;">&#129658\; Open House: 1:00 &ndash\; 4:00 PM</span></span></p>\n\n<p class="cvGsUA direction-ltr align-center para-style-body" style="color: rgb(228\, 16\, 37)\; caret-color: rgb(228\, 16\, 37)\; font-family: YACgETiWKS8_0\, _fb_\, auto\; letter-spacing: 0.024em\; line-height: 32px\;"><span style="color:#000000\;"><span class="a_GcMg font-feature-liga-off font-feature-clig-off font-feature-calt-off text-decoration-none text-strikethrough-none" style="--Ys-XuQ: none\; font-kerning: none\;">&#9986\;&#65039\; Official Ribbon Cutting: 1:30 PM</span></span></p>\n\n<p class="cvGsUA direction-ltr align-center para-style-body" style="color: rgb(228\, 16\, 37)\; caret-color: rgb(228\, 16\, 37)\; font-family: YACgETiWKS8_0\, _fb_\, auto\; letter-spacing: 0.024em\; line-height: 32px\;"><span style="color:#000000\;"><span class="a_GcMg font-feature-liga-off font-feature-clig-off font-feature-calt-off text-decoration-none text-strikethrough-none" style="--Ys-XuQ: none\; font-kerning: none\;">Come tour the new clinic\, meet the team\, and help us</span></span></p>\n\n<p class="cvGsUA direction-ltr align-center para-style-body" style="color: rgb(228\, 16\, 37)\; caret-color: rgb(228\, 16\, 37)\; font-family: YACgETiWKS8_0\, _fb_\, auto\; letter-spacing: 0.024em\; line-height: 32px\;"><span style="color:#000000\;"><span class="a_GcMg font-feature-liga-off font-feature-clig-off font-feature-calt-off text-decoration-none text-strikethrough-none" style="--Ys-XuQ: none\; font-kerning: none\;">celebrate this exciting addition to our community!</span></span></p>\n
LOCATION:
UID:e.2137.4783
SEQUENCE:3
DTSTAMP:20260423T230939Z
URL:http://members.theheartofok.com/events/details/ribbon-cutting-for-hometown-clinic-4783
END:VEVENT

END:VCALENDAR
