BEGIN:VCALENDAR
VERSION:2.0
PRODID:-//ChamberMaster//Event Calendar 2.0//EN
METHOD:PUBLISH
X-PUBLISHED-TTL:P3D
REFRESH-INTERVAL:P3D
CALSCALE:GREGORIAN
BEGIN:VEVENT
DTSTART:20240904T190000Z
DTEND:20240904T190000Z
X-MICROSOFT-CDO-ALLDAYEVENT:FALSE
SUMMARY:Ribbon Cutting for Rausch Coleman Homes
DESCRIPTION:Join us\, their CEO\, John Rausch\, and everyone who worked to make this community possible\, as we celebrate this momentous occasion! Ribbon cutting\, food\, and festivities to follow.
X-ALT-DESC;FMTTYPE=text/html:<span class="OYPEnA font-feature-liga-off font-feature-clig-off font-feature-calt-off text-decoration-none text-strikethrough-none" style="font-weight: 700\; font-kerning: none\;">Join us\, their CEO\, John Rausch\, and everyone who worked to make this community possible\, as we celebrate this momentous occasion! Ribbon cutting\, food\, and festivities to follow.</span>
LOCATION:
UID:e.2137.3844
SEQUENCE:3
DTSTAMP:20260424T182903Z
URL:http://members.theheartofok.com/events/details/ribbon-cutting-for-rausch-coleman-homes-3844
END:VEVENT

END:VCALENDAR
