BEGIN:VCALENDAR
VERSION:2.0
PRODID:-//ChamberMaster//Event Calendar 2.0//EN
METHOD:PUBLISH
X-PUBLISHED-TTL:P3D
REFRESH-INTERVAL:P3D
CALSCALE:GREGORIAN
BEGIN:VEVENT
DTSTART:20240913T003000Z
DTEND:20240913T003000Z
X-MICROSOFT-CDO-ALLDAYEVENT:FALSE
SUMMARY:Town of Goldsby Board of Trustees and Public Works Meeting
DESCRIPTION:Town of Goldsby Board of Trustees and Public Works Meeting https://www.townofgoldsby.com/
X-ALT-DESC;FMTTYPE=text/html:<h2 id="ctl00_ctl00_MainContent_ModuleContent_ctl00_ctl04_eventTitle" style="box-sizing: content-box\; margin: 0px 0px 3px\; padding: 0px 50px 0px 0px\; border: 0px\; outline: 0px\; font-weight: bold\; font-size: 15pt\; font-family: Arial\; vertical-align: baseline\;">Town of Goldsby Board of Trustees and Public Works Meeting&nbsp\;<a href="https://www.townofgoldsby.com/">https://www.townofgoldsby.com/</a></h2>\n
LOCATION:Town of Goldsby Town Hall 100 E Center Road Goldsby\, OK 73093
UID:e.2137.3876
SEQUENCE:3
DTSTAMP:20260424T183326Z
URL:http://members.theheartofok.com/events/details/town-of-goldsby-board-of-trustees-and-public-works-meeting-09-12-2024-3876
END:VEVENT

END:VCALENDAR
