BEGIN:VCALENDAR
VERSION:2.0
PRODID:-//ChamberMaster//Event Calendar 2.0//EN
METHOD:PUBLISH
X-PUBLISHED-TTL:P3D
REFRESH-INTERVAL:P3D
CALSCALE:GREGORIAN
BEGIN:VEVENT
DTSTART:20260423T140000Z
DTEND:20260423T150000Z
X-MICROSOFT-CDO-ALLDAYEVENT:FALSE
SUMMARY:Chamber Community Coffee – Purcell Airport
DESCRIPTION:Join us for our next Chamber Community Coffee hosted by the Purcell Municipal Airport! Start your morning with coffee\, conversation\, and connection while networking with fellow Chamber members\, local leaders\, and community partners.\n\n  Date: Thursday\, April 23\, 2026\n\n  Time: 9:00 AM\n\n  Location: Purcell Municipal Airport\n\nThis come-and-go event is a great opportunity to build relationships\, learn more about one of our community's unique assets\, and see firsthand what the Purcell Airport has to offer. Whether you're a longtime member or new to the Chamber\, we'd love to have you join us!
X-ALT-DESC;FMTTYPE=text/html:<div style="color: rgb(64\, 63\, 66)\; font-family: Calibri\, Helvetica\, Arial\, sans-serif\; font-size: 16px\; white-space: pre-wrap\; text-align: center\;">\n<p data-end="452" data-start="220" style="caret-color: rgb(255\, 255\, 255)\; color: rgb(255\, 255\, 255)\;"><span style="color:#000000\;">Join us for our next Chamber Community Coffee hosted by the Purcell Municipal Airport! Start your morning with coffee\, conversation\, and connection while networking with fellow Chamber members\, local leaders\, and community partners.</span></p>\n\n<p data-end="560" data-start="454" style="caret-color: rgb(255\, 255\, 255)\; color: rgb(255\, 255\, 255)\;"><span style="color:#000000\;">&#128197\;&nbsp\;<strong data-end="466" data-start="457">Date:</strong>&nbsp\;Thursday\, April 23\, 2026<br data-end="494" data-start="491" />\n&#9200\;&nbsp\;<strong data-end="505" data-start="496">Time:</strong>&nbsp\;9:00 AM<br data-end="516" data-start="513" />\n&#128205\;&nbsp\;<strong data-end="532" data-start="519">Location:</strong>&nbsp\;Purcell Municipal Airport</span></p>\n\n<p data-end="830" data-start="562" style="caret-color: rgb(255\, 255\, 255)\; color: rgb(255\, 255\, 255)\;"><span style="color:#000000\;">This come-and-go event is a great opportunity to build relationships\, learn more about one of our community&rsquo\;s unique assets\, and see firsthand what the Purcell Airport has to offer. Whether you&#39\;re a longtime member or new to the Chamber\, we&rsquo\;d love to have you join us!</span></p>\n</div>\n
LOCATION:Purcell Municipal Airport\, 1420 Chandler Road\, Purcell\, Oklahoma. Conveniently located just minutes from I-35 with easy access and on-site parking available.
UID:e.2137.4791
SEQUENCE:3
DTSTAMP:20260420T233106Z
URL:https://members.theheartofok.com/events/details/chamber-community-coffee-purcell-airport-4791
END:VEVENT

END:VCALENDAR
