BEGIN:VCALENDAR
VERSION:2.0
PRODID:-//ChamberMaster//Event Calendar 2.0//EN
METHOD:PUBLISH
X-PUBLISHED-TTL:P3D
REFRESH-INTERVAL:P3D
CALSCALE:GREGORIAN
BEGIN:VEVENT
DTSTART:20260604T230000Z
DTEND:20260605T020000Z
X-MICROSOFT-CDO-ALLDAYEVENT:FALSE
SUMMARY:Heart of Oklahoma Chamber Awards Banquet 2026
DESCRIPTION:Join us for the 2026 Heart of Oklahoma Chamber of Commerce Awards Banquet our biggest night of the year! This annual event celebrates outstanding businesses and individuals while bringing together community leaders\, professionals\, and members from across the Heart of Oklahoma.\n\n  Date: Thursday\, June 4\, 2026\n\n  Time: Doors open at 6:00 PM | Program begins at 6:30 PM\n\n  Location: Showplace Theatre at Riverwind Casino\n\nEnjoy an evening of recognition\, networking\, and fun featuring dinner by Harris Catering\, a live auction\, photo booth\, and more. This is a great opportunity to connect with others\, celebrate local success\, and be part of a memorable night in our community.\n\n  Tickets:\n\n  Individual Ticket   $60\n\n  Table (8 seats)   $480 (includes table signage + 8 drink tickets)\n\nSponsorship opportunities are available\, many of which include reserved seating making it a great way to secure your spot while gaining valuable exposure for your business.\n\n  Live Auction Donations:\n\nDonating an item to the live auction is another great way to promote your business. With past attendance reaching up to 300 guests\, this event offers excellent visibility in front of the community.\n\nDon't wait seating is limited and reservations are already coming in!
X-ALT-DESC;FMTTYPE=text/html:<div class="xdj266r x11i5rnm xat24cr x1mh8g0r x1vvkbs x126k92a" style="margin: 0px\; overflow-wrap: break-word\; white-space: pre-wrap\; font-family: system-ui\, -apple-system\, BlinkMacSystemFont\, &quot\;.SFNSText-Regular&quot\;\, sans-serif\; caret-color: rgb(5\, 5\, 5)\; color: rgb(5\, 5\, 5)\; font-size: 15px\;">\n<div dir="auto" style="font-family: inherit\;">\n<p data-end="476" data-start="199" style="caret-color: rgb(255\, 255\, 255)\; color: rgb(255\, 255\, 255)\;"><span style="color:#000000\;">Join us for the 2026 Heart of Oklahoma Chamber of Commerce Awards Banquet&mdash\;our biggest night of the year! This annual event celebrates outstanding businesses and individuals while bringing together community leaders\, professionals\, and members from across the Heart of Oklahoma.</span></p>\n\n<p data-end="636" data-start="478" style="caret-color: rgb(255\, 255\, 255)\; color: rgb(255\, 255\, 255)\;"><span style="color:#000000\;">&#128197\;&nbsp\;<strong data-end="490" data-start="481">Date:</strong>&nbsp\;Thursday\, June 4\, 2026<br data-end="516" data-start="513" />\n&#9200\;&nbsp\;<strong data-end="527" data-start="518">Time:</strong>&nbsp\;Doors open at 6:00 PM | Program begins at 6:30 PM<br data-end="580" data-start="577" />\n&#128205\;&nbsp\;<strong data-end="596" data-start="583">Location:</strong>&nbsp\;Showplace Theatre at Riverwind Casino</span></p>\n\n<p data-end="894" data-start="638" style="caret-color: rgb(255\, 255\, 255)\; color: rgb(255\, 255\, 255)\;"><span style="color:#000000\;">Enjoy an evening of recognition\, networking\, and fun featuring dinner by Harris Catering\, a live auction\, photo booth\, and more. This is a great opportunity to connect with others\, celebrate local success\, and be part of a memorable night in our community.</span></p>\n\n<p data-end="1013" data-start="896" style="caret-color: rgb(255\, 255\, 255)\; color: rgb(255\, 255\, 255)\;"><span style="color:#000000\;">&#127903\;&nbsp\;<strong data-end="911" data-start="899">Tickets:</strong><br data-end="914" data-start="911" />\n&bull\; Individual Ticket &ndash\; $60<br data-end="942" data-start="939" />\n&bull\; Table (8 seats) &ndash\; $480&nbsp\;<em data-end="1011" data-start="967">(includes table signage + 8 drink tickets)</em></span></p>\n\n<p data-end="1187" data-start="1015" style="caret-color: rgb(255\, 255\, 255)\; color: rgb(255\, 255\, 255)\;"><span style="color:#000000\;">Sponsorship opportunities are available\, many of which include reserved seating&mdash\;making it a great way to secure your spot while gaining valuable exposure for your business.</span></p>\n\n<p data-end="1419" data-start="1189" style="caret-color: rgb(255\, 255\, 255)\; color: rgb(255\, 255\, 255)\;"><span style="color:#000000\;">&#127873\;&nbsp\;<strong data-end="1219" data-start="1192">Live Auction Donations:</strong><br data-end="1222" data-start="1219" />\nDonating an item to the live auction is another great way to promote your business. With past attendance reaching up to 300 guests\, this event offers excellent visibility in front of the community.</span></p>\n\n<p data-end="1490" data-start="1421" style="caret-color: rgb(255\, 255\, 255)\; color: rgb(255\, 255\, 255)\;">Don&rsquo\;t wait&mdash\;seating is limited and reservations are already coming in!</p>\n</div>\n</div>\n
LOCATION:Showplace Theatre at Riverwind Casino\, located just north of Purcell off I-35 in Norman\, Oklahoma. The venue offers a premier event space with convenient parking and easy access.
UID:e.2137.4781
SEQUENCE:3
DTSTAMP:20260421T014607Z
URL:https://members.theheartofok.com/events/details/heart-of-oklahoma-chamber-awards-banquet-2026-4781
END:VEVENT

END:VCALENDAR
